BEGIN:VCALENDAR
VERSION:2.0
PRODID:-//Djoubate - ECPv5.1.4//NONSGML v1.0//EN
CALSCALE:GREGORIAN
METHOD:PUBLISH
X-WR-CALNAME:Djoubate
X-ORIGINAL-URL:http://djoubate.fr
X-WR-CALDESC:Évènements pour Djoubate
BEGIN:VTIMEZONE
TZID:Europe/Paris
BEGIN:DAYLIGHT
TZOFFSETFROM:+0100
TZOFFSETTO:+0200
TZNAME:CEST
DTSTART:20170326T010000
END:DAYLIGHT
BEGIN:STANDARD
TZOFFSETFROM:+0200
TZOFFSETTO:+0100
TZNAME:CET
DTSTART:20171029T010000
END:STANDARD
END:VTIMEZONE
BEGIN:VEVENT
DTSTART;TZID=Europe/Paris:20170120T210000
DTEND;TZID=Europe/Paris:20170120T210000
DTSTAMP:20260424T143348
CREATED:20161221T123722Z
LAST-MODIFIED:20161221T124317Z
UID:1588-1484946000-1484946000@djoubate.fr
SUMMARY:Concert privé
DESCRIPTION:
URL:http://djoubate.fr/date/concert-prive/
LOCATION:La Péniche Didascalie\, Place du Canal – 6 rue Hermès\, Ramonville Saint-Agne\,  31520 \, France
CATEGORIES:Concert
ATTACH;FMTTYPE=image/jpeg:http://djoubate.fr/wp-content/uploads/2016/12/flyerW.jpg
ORGANIZER;CN="Djoubate":MAILTO:jul_moreau@laposte.net
END:VEVENT
END:VCALENDAR